BEGIN:VCALENDAR
VERSION:2.0
PRODID:-//CareYoga - Body, Mind &amp; Food - ECPv6.15.20//NONSGML v1.0//EN
CALSCALE:GREGORIAN
METHOD:PUBLISH
X-WR-CALNAME:CareYoga - Body, Mind &amp; Food
X-ORIGINAL-URL:https://www.careyoga.de
X-WR-CALDESC:Veranstaltungen für CareYoga - Body, Mind &amp; Food
REFRESH-INTERVAL;VALUE=DURATION:PT1H
X-Robots-Tag:noindex
X-PUBLISHED-TTL:PT1H
BEGIN:VTIMEZONE
TZID:Europe/Berlin
BEGIN:DAYLIGHT
TZOFFSETFROM:+0100
TZOFFSETTO:+0200
TZNAME:CEST
DTSTART:20240331T010000
END:DAYLIGHT
BEGIN:STANDARD
TZOFFSETFROM:+0200
TZOFFSETTO:+0100
TZNAME:CET
DTSTART:20241027T010000
END:STANDARD
BEGIN:DAYLIGHT
TZOFFSETFROM:+0100
TZOFFSETTO:+0200
TZNAME:CEST
DTSTART:20250330T010000
END:DAYLIGHT
BEGIN:STANDARD
TZOFFSETFROM:+0200
TZOFFSETTO:+0100
TZNAME:CET
DTSTART:20251026T010000
END:STANDARD
BEGIN:DAYLIGHT
TZOFFSETFROM:+0100
TZOFFSETTO:+0200
TZNAME:CEST
DTSTART:20260329T010000
END:DAYLIGHT
BEGIN:STANDARD
TZOFFSETFROM:+0200
TZOFFSETTO:+0100
TZNAME:CET
DTSTART:20261025T010000
END:STANDARD
BEGIN:DAYLIGHT
TZOFFSETFROM:+0100
TZOFFSETTO:+0200
TZNAME:CEST
DTSTART:20270328T010000
END:DAYLIGHT
BEGIN:STANDARD
TZOFFSETFROM:+0200
TZOFFSETTO:+0100
TZNAME:CET
DTSTART:20271031T010000
END:STANDARD
END:VTIMEZONE
BEGIN:VEVENT
DTSTART;TZID=Europe/Berlin:20250611T170000
DTEND;TZID=Europe/Berlin:20250702T183000
DTSTAMP:20260423T104703
CREATED:20250526T193013Z
LAST-MODIFIED:20250526T120736Z
UID:3422-1749661200-1751481000@www.careyoga.de
SUMMARY:Vinyasa Yoga & Meditation
DESCRIPTION:4 Einheiten á 90 Minuten jeweils Mittwochs 17:00 – 18:30 \nTermine: 11.06.25\, 18.06.25\, 25.06.25\, 02.07.25 \n\n\n\n\nEine Yogaeinheit\, die dich aktiv fordert aber nicht überfordert. Dynamisches Vinyasa Yoga\, das deinen gesamten Körper anspricht! Den Ausgleich bietet eine geführte Tiefenentspannung und sorgt für dein komplettes Yogaerlebnis. \n\n\n\n\nDieser Kurs ist für Jeden geeignet\, der sanftes (aber intensives) Yoga mag und nach tiefer Entspannung sucht. Hier werden wir langsam Asanas (Haltungen) üben und du findest die perfekte Balance aus sanft fließender Aktivität und Entspannung. \nIn dieser Klasse wirst du ein wenig schwitzen\, dich dehnen und Kraft aufbauen. Daneben sind Pranayama (Atemübungen) und Meditation Teile der Stunde. Den Abschluss bildet eine geführte Tiefenentspannung. Außerdem adjuste ich dich intensiv und unterstütze dich so\, deinen Weg in die Asana (Haltung) zu finden. \nDu übst in einer kleinen Gruppe (maximal 5) und sehr angenehmer\, exklusiver Atmosphäre. \nYinyasa Yoga
URL:https://www.careyoga.de/event/vinyasa-yoga-meditation-6/
LOCATION:CareYoga – Claudia Weinreich\, Poetenweg 30\, Leipzig\, 04155\, Deutschland
ATTACH;FMTTYPE=image/jpeg:https://www.careyoga.de/wp-content/uploads/2023/11/20231008_183734-Kopie.jpg
ORGANIZER;CN="Claudia Weinreich":MAILTO:info@careyoga.de
END:VEVENT
BEGIN:VEVENT
DTSTART;TZID=Europe/Berlin:20250613T163000
DTEND;TZID=Europe/Berlin:20250704T180000
DTSTAMP:20260423T104703
CREATED:20250526T193032Z
LAST-MODIFIED:20250526T143443Z
UID:3418-1749832200-1751652000@www.careyoga.de
SUMMARY:Entspannt ins Wochenende mit Yoga & Meditation
DESCRIPTION:4 Einheiten á 90 Minuten jeweils Freitags 16:30 – 18:00 \nTermine: 13.06.25\, 20.06.25\, 27.06.25\, 04.07.25 \n\n\n\n\nEine mal sanfte\, mal stärkende Yogaeinheit mit tief gehender Dehnung und regenerativer Entspannung. Hier kannst du die Ereignisse der Woche hinter dir lassen und sanft & frei in dein Wochenende starten! \n\n\n\n\nDieser Kurs ist für Jeden geeignet\, der sanftes (aber intensives) Yoga mag und nach tiefer Entspannung sucht. Hier werden wir ganz langsam Asanas (Haltungen) üben und du findest die perfekte Balance aus sanft fließender Aktivität und Entspannung. \nIn dieser Yoga-Klasse wirst du ein wenig schwitzen\, dich dehnen und Kraft aufbauen. Daneben sind Pranayama (Atemübungen) und Meditation Teile der Stunde. Den Abschluss bildet eine geführte Tiefenentspannung. Außerdem adjuste ich dich intensiv und unterstütze dich so\, deinen Weg in die Asana (Haltung) zu finden. \nDu übst in einer kleinen Gruppe (maximal 5) und sehr angenehmer\, exklusiver Atmosphäre. \nYinyasa Yoga
URL:https://www.careyoga.de/event/entspannt-ins-wochenende-mit-yoga-meditation-6/
LOCATION:CareYoga – Claudia Weinreich\, Poetenweg 30\, Leipzig\, 04155\, Deutschland
ATTACH;FMTTYPE=image/jpeg:https://www.careyoga.de/wp-content/uploads/2023/11/20231008_182456-Kopie.jpg
ORGANIZER;CN="Claudia Weinreich":MAILTO:info@careyoga.de
END:VEVENT
BEGIN:VEVENT
DTSTART;TZID=Europe/Berlin:20250616T191500
DTEND;TZID=Europe/Berlin:20250707T204500
DTSTAMP:20260423T104703
CREATED:20250526T193023Z
LAST-MODIFIED:20250526T115742Z
UID:3424-1750101300-1751921100@www.careyoga.de
SUMMARY:Vinyasa & Yin Yoga & Meditation
DESCRIPTION:4 Einheiten á 90 Minuten jeweils Montags 19:15 – 20:45 \nTermine: 16.06.03.25\, 23.06.25\, 30.06.25\, 07.07.25 \n\n\n\n\n\n\n\n\nEine Yogaeinheit\, die dich systematisch runterfährt. Sanftes Vinyasa Yoga\, regeneratives Yin Yoga und eine tief entspannende\, geführte Meditation sorgen für dein komplettes Yogaerlebnis. \n\n\n\n\n\n\n\n\nDieser Kurs ist für Jeden geeignet\, der sanftes Yoga mag und nach tiefer Entspannung sucht. Hier werden wir ganz langsam einfache Asanas (Haltungen) üben und du findest die perfekte Balance aus sanft fließender Aktivität und Entspannung. \nIn dieser Klasse wirst du dich dehnen und ein wenig Kraft aufbauen. Daneben sind Pranayama (Atemübungen) und Meditation Teile der Stunde. Den Abschluss bildet eine geführte Tiefenentspannung. Außerdem adjuste ich dich intensiv und unterstütze dich so\, deinen Weg in die Asana (Haltung) zu finden. \nDu übst in einer kleinen Gruppe (maximal 5) und sehr angenehmer\, exklusiver Atmosphäre. \nYinyasa Yoga
URL:https://www.careyoga.de/event/vinyasa-yin-yoga-meditation-6/
LOCATION:CareYoga – Claudia Weinreich\, Poetenweg 30\, Leipzig\, 04155\, Deutschland
ATTACH;FMTTYPE=image/jpeg:https://www.careyoga.de/wp-content/uploads/2024/02/20231008_180142-scaled.jpg
ORGANIZER;CN="Claudia Weinreich":MAILTO:info@careyoga.de
END:VEVENT
BEGIN:VEVENT
DTSTART;TZID=Europe/Berlin:20250818T191500
DTEND;TZID=Europe/Berlin:20250922T204500
DTSTAMP:20260423T104703
CREATED:20250727T170057Z
LAST-MODIFIED:20250727T160221Z
UID:3472-1755544500-1758573900@www.careyoga.de
SUMMARY:Vinyasa & Yin Yoga & Meditation
DESCRIPTION:5 Einheiten á 90 Minuten jeweils Montags 19:15 – 20:45 \nTermine: 18.08.2025\, 25.08.2025\, 01.09.2025\, 08.09.2025\, 22.09.2025  (nicht am 15.09.2025) \n\n\n\n\n\n\n\n\nEine Yogaeinheit\, die dich systematisch runterfährt. Sanftes Vinyasa Yoga\, regeneratives Yin Yoga und eine tief entspannende\, geführte Meditation sorgen für dein komplettes Yogaerlebnis. \n\n\n\n\n\n\n\n\nDieser Kurs ist für Jeden geeignet\, der sanftes Yoga mag und nach tiefer Entspannung sucht. Hier werden wir ganz langsam einfache Asanas (Haltungen) üben und du findest die perfekte Balance aus sanft fließender Aktivität und Entspannung. \nIn dieser Klasse wirst du dich dehnen und ein wenig Kraft aufbauen. Daneben sind Pranayama (Atemübungen) und Meditation Teile der Stunde. Den Abschluss bildet eine geführte Tiefenentspannung. Außerdem adjuste ich dich intensiv und unterstütze dich so\, deinen Weg in die Asana (Haltung) zu finden. \nDu übst in einer kleinen Gruppe (maximal 5) und sehr angenehmer\, exklusiver Atmosphäre. \nYinyasa Yoga
URL:https://www.careyoga.de/event/vinyasa-yin-yoga-meditation-7/
LOCATION:CareYoga – Claudia Weinreich\, Poetenweg 30\, Leipzig\, 04155\, Deutschland
ATTACH;FMTTYPE=image/jpeg:https://www.careyoga.de/wp-content/uploads/2024/02/20231008_180142-scaled.jpg
ORGANIZER;CN="Claudia Weinreich":MAILTO:info@careyoga.de
END:VEVENT
BEGIN:VEVENT
DTSTART;TZID=Europe/Berlin:20250820T170000
DTEND;TZID=Europe/Berlin:20250924T183000
DTSTAMP:20260423T104703
CREATED:20250727T170054Z
LAST-MODIFIED:20250727T155521Z
UID:3466-1755709200-1758738600@www.careyoga.de
SUMMARY:Vinyasa Yoga & Meditation
DESCRIPTION:5 Einheiten á 90 Minuten jeweils Mittwochs 17:00 – 18:30 \nTermine: 20.08.2025\, 27.08.2025\, 03.09.2025\, 17.09.2025\, 24.09.2025  (nicht am 10.09.2025) \n\n\n\n\nEine Yogaeinheit\, die dich aktiv fordert aber nicht überfordert. Dynamisches Vinyasa Yoga\, das deinen gesamten Körper anspricht! Den Ausgleich bietet eine geführte Tiefenentspannung und sorgt für dein komplettes Yogaerlebnis. \n\n\n\n\nDieser Kurs ist für Jeden geeignet\, der sanftes (aber intensives) Yoga mag und nach tiefer Entspannung sucht. Hier werden wir langsam Asanas (Haltungen) üben und du findest die perfekte Balance aus sanft fließender Aktivität und Entspannung. \nIn dieser Klasse wirst du ein wenig schwitzen\, dich dehnen und Kraft aufbauen. Daneben sind Pranayama (Atemübungen) und Meditation Teile der Stunde. Den Abschluss bildet eine geführte Tiefenentspannung. Außerdem adjuste ich dich intensiv und unterstütze dich so\, deinen Weg in die Asana (Haltung) zu finden. \nDu übst in einer kleinen Gruppe (maximal 5) und sehr angenehmer\, exklusiver Atmosphäre. \nYinyasa Yoga
URL:https://www.careyoga.de/event/vinyasa-yoga-meditation-7/
LOCATION:CareYoga – Claudia Weinreich\, Poetenweg 30\, Leipzig\, 04155\, Deutschland
ATTACH;FMTTYPE=image/jpeg:https://www.careyoga.de/wp-content/uploads/2023/11/20231008_183734-Kopie.jpg
ORGANIZER;CN="Claudia Weinreich":MAILTO:info@careyoga.de
END:VEVENT
BEGIN:VEVENT
DTSTART;TZID=Europe/Berlin:20250822T163000
DTEND;TZID=Europe/Berlin:20250926T180000
DTSTAMP:20260423T104703
CREATED:20250727T170036Z
LAST-MODIFIED:20250727T155126Z
UID:3484-1755880200-1758909600@www.careyoga.de
SUMMARY:Entspannt ins Wochenende mit Yoga & Meditation
DESCRIPTION:5 Einheiten á 90 Minuten jeweils Freitags 16:30 – 18:00 \nTermine: 22.08.2025\, 29.08.2025\, 05.09.2025\, 19.09.2025\, 26.09.2025  (nicht am 12.09.2025) \n\n\n\n\nEine mal sanfte\, mal stärkende Yogaeinheit mit tief gehender Dehnung und regenerativer Entspannung. Hier kannst du die Ereignisse der Woche hinter dir lassen und sanft & frei in dein Wochenende starten! \n\n\n\n\nDieser Kurs ist für Jeden geeignet\, der sanftes (aber intensives) Yoga mag und nach tiefer Entspannung sucht. Hier werden wir ganz langsam Asanas (Haltungen) üben und du findest die perfekte Balance aus sanft fließender Aktivität und Entspannung. \nIn dieser Yoga-Klasse wirst du ein wenig schwitzen\, dich dehnen und Kraft aufbauen. Daneben sind Pranayama (Atemübungen) und Meditation Teile der Stunde. Den Abschluss bildet eine geführte Tiefenentspannung. Außerdem adjuste ich dich intensiv und unterstütze dich so\, deinen Weg in die Asana (Haltung) zu finden. \nDu übst in einer kleinen Gruppe (maximal 5) und sehr angenehmer\, exklusiver Atmosphäre. \nYinyasa Yoga
URL:https://www.careyoga.de/event/entspannt-ins-wochenende-mit-yoga-meditation-7/
LOCATION:CareYoga – Claudia Weinreich\, Poetenweg 30\, Leipzig\, 04155\, Deutschland
ATTACH;FMTTYPE=image/jpeg:https://www.careyoga.de/wp-content/uploads/2023/11/20231008_182456-Kopie.jpg
ORGANIZER;CN="Claudia Weinreich":MAILTO:info@careyoga.de
END:VEVENT
BEGIN:VEVENT
DTSTART;TZID=Europe/Berlin:20251027T191500
DTEND;TZID=Europe/Berlin:20251124T204500
DTSTAMP:20260423T104703
CREATED:20251014T190008Z
LAST-MODIFIED:20251014T082150Z
UID:3528-1761592500-1764017100@www.careyoga.de
SUMMARY:Vinyasa & Yin Yoga & Meditation
DESCRIPTION:4 Einheiten á 90 Minuten jeweils Montags 19:15 – 20:45 \nTermine: 27.10.2025\, 03.11.2025 (nicht am 10.11.2025 – Rügen Herbst Retreat) 17.11.2025\, 24.11.2025 \n\n\n\n\n\n\n\n\nEine Yogaeinheit\, die dich systematisch runterfährt. Sanftes Vinyasa Yoga\, regeneratives Yin Yoga und eine tief entspannende\, geführte Meditation sorgen für dein komplettes Yogaerlebnis. \n\n\n\n\n\n\n\n\nDieser Kurs ist für Jeden geeignet\, der sanftes Yoga mag und nach tiefer Entspannung sucht. Hier werden wir ganz langsam einfache Asanas (Haltungen) üben und du findest die perfekte Balance aus sanft fließender Aktivität und Entspannung. \nIn dieser Klasse wirst du dich dehnen und ein wenig Kraft aufbauen. Daneben sind Pranayama (Atemübungen) und Meditation Teile der Stunde. Den Abschluss bildet eine geführte Tiefenentspannung. Außerdem adjuste ich dich intensiv und unterstütze dich so\, deinen Weg in die Asana (Haltung) zu finden. \nDu übst in einer kleinen Gruppe (maximal 5) und sehr angenehmer\, exklusiver Atmosphäre. \nYinyasa Yoga
URL:https://www.careyoga.de/event/vinyasa-yin-yoga-meditation-8/
LOCATION:CareYoga – Claudia Weinreich\, Poetenweg 30\, Leipzig\, 04155\, Deutschland
ATTACH;FMTTYPE=image/jpeg:https://www.careyoga.de/wp-content/uploads/2024/02/20231008_180142-scaled.jpg
ORGANIZER;CN="Claudia Weinreich":MAILTO:info@careyoga.de
END:VEVENT
BEGIN:VEVENT
DTSTART;TZID=Europe/Berlin:20251029T170000
DTEND;TZID=Europe/Berlin:20251126T183000
DTSTAMP:20260423T104703
CREATED:20251014T190049Z
LAST-MODIFIED:20251014T082310Z
UID:3534-1761757200-1764181800@www.careyoga.de
SUMMARY:Vinyasa Yoga & Meditation
DESCRIPTION:3 Einheiten á 90 Minuten jeweils Mittwochs 17:00 – 18:30 \nTermine: 29.10.2025 (nicht am 05.11.2025 – Rügen Retreat)  12.11.2025  (nicht am 19.11.2025 Buß- und Bettag) 26.11.2025 \n\n\n\n\nEine Yogaeinheit\, die dich aktiv fordert aber nicht überfordert. Dynamisches Vinyasa Yoga\, das deinen gesamten Körper anspricht! Den Ausgleich bietet eine geführte Tiefenentspannung und sorgt für dein komplettes Yogaerlebnis. \n\n\n\n\nDieser Kurs ist für Jeden geeignet\, der sanftes (aber intensives) Yoga mag und nach tiefer Entspannung sucht. Hier werden wir langsam Asanas (Haltungen) üben und du findest die perfekte Balance aus sanft fließender Aktivität und Entspannung. \nIn dieser Klasse wirst du ein wenig schwitzen\, dich dehnen und Kraft aufbauen. Daneben sind Pranayama (Atemübungen) und Meditation Teile der Stunde. Den Abschluss bildet eine geführte Tiefenentspannung. Außerdem adjuste ich dich intensiv und unterstütze dich so\, deinen Weg in die Asana (Haltung) zu finden. \nDu übst in einer kleinen Gruppe (maximal 5) und sehr angenehmer\, exklusiver Atmosphäre. \nYinyasa Yoga
URL:https://www.careyoga.de/event/vinyasa-yoga-meditation-8/
LOCATION:CareYoga – Claudia Weinreich\, Poetenweg 30\, Leipzig\, 04155\, Deutschland
ATTACH;FMTTYPE=image/jpeg:https://www.careyoga.de/wp-content/uploads/2023/11/20231008_183734-Kopie.jpg
ORGANIZER;CN="Claudia Weinreich":MAILTO:info@careyoga.de
END:VEVENT
BEGIN:VEVENT
DTSTART;VALUE=DATE:20251106
DTEND;VALUE=DATE:20251110
DTSTAMP:20260423T104703
CREATED:20241204T191136Z
LAST-MODIFIED:20251015T102548Z
UID:3378-1762387200-1762732799@www.careyoga.de
SUMMARY:Dein Yogawochenende am Meer – mit Achtsamkeit und Meditation
DESCRIPTION:Du interessierst dich schon länger für die Themen Achtsamkeit & Meditation? \n\nDu sehnst dich nach einer Pause vom Alltagsstress und der täglichen Routine? \nDu verbringst gern Zeit in der Natur und besonders gern am Meer? \nDu möchtest gern neue Impulse für eine gelassene und neue\, innere Ausrichtung finden? \nIn unserem erholsamen Wochenend-Retreat wirst du all das finden und die Möglichkeit haben\, in wunderschöner Umgebung und angenehmer Gesellschaft\, neue Impulse für deine Yoga- und Achtsamkeitspraxis zu bekommen. \nGemeinsam erkunden wir die Schätze der Achtsamkeit und lernen\, das Gedankenkarussell einmal anzuhalten\, den Geist zur Ruhe zu bringen. \nDu kannst hilfreiche Impulse aus Achtsamkeit und Meditation für dich erkunden\, die Wirkung verschiedener Techniken einmal ausprobieren und so eine für dich geeignete Praxis etablieren. \nMit Hilfe von Körperübungen werden wir verschiedene Möglichkeiten und deren Wirkung auf Körper und Geist erfahren. \nUnd- Du erlebst den tiefen Frieden\, den wir in der inneren Stille finden können. \nWir verbringen gemeinsam ein entspanntes Wochenende mit einer Kombination au sanftem Vinyasa Yoga\, tief regenerierenden Yin und Restorative Yoga und heilsamen Klangerlebnissen. Kleine Meditationen für Anfänger\, Achtsamkeitsübungen und Selfcareimpulse machen dein Wochenenderlebnis komplett. \nDu kannst alle unsere Angebote nutzen\, hast aber natürlich auch Zeit für eigene Unternehmungen\, Zeit an der erfrischenden Ostsee\, einen entspannten Saunabesuch oder für all das\, was dir Freude macht. \n\nAblaufDonnerstag \n\nab 15 Uhr: individuelle Anreise im „Mariandl am Meer“\n16.30-18.00 Uhr Ankommen mit Restorative Yoga & Soundbath\n18.30 Uhr gemeinsames Abendessen á la carte und gemütliches Kennenlernen\n\nFreitag \n\n8.30-9.30 Uhr Achtsamkeitspraxis am Meer (für Mutige: Wassertreten in der Ostsee)\n9.45-11.00 Uhr Mariandl Frühstücksbuffet\n16.30-18.30 Uhr Yin Yoga und Achtsamkeit\nab c: 18.30 Uhr Abendessen (individuell)\n\nSamstag \n\n8.30-9.30 Uhr Mindful Yoga & Meditation\n9.45 Uhr Mariandl Frühstücksbuffet\n11.00 – 17.00 Uhr zur freien Verfügung\n16.30-18.00 Uhr Yin Yoga\, Meditation mit Klang\n18.30 Uhr gemeinsames Abschluss-Abendessen á la carte\n\nSonntag \n\n8.30-9.30 Uhr Yoga und Meditation\n9.45 Uhr Mariandl Frühstücksbuffet\n11.00 Uhr individuelle Abreise\n\nDas Retreat ist für dich geeignet\, wenn…\ndu Lust auf eine kurze und erholsame Auszeit mit Yoga\, Klang und Achtsamkeit hast\ndu gern mehr Verbindung zu dir selbst spüren möchtest\ndu dir neue Impulse für  deine Selbstfürsorge im Alltag wünschst\ndu auf der Suche nach Entspannung & innerem Frieden bist\ndu einfach ein paar Tage am Meer genießen magst\n\nPreis \n\n\n\n\n\npro Person  € 369\,-\n\nDie Yogastunden sind für alle Level geeignet und bieten sowohl aktivierende Elemente (am Vormittag) als auch sehr entspannende\, harmonisierende Stunden (am Abend)\, die durch den Einsatz von Klangschalen noch intensiviert werden. \nFür die Achtsamkeits- und Meditationspraxis sind ebenfalls keine Vorkenntnisse notwendig. \n\nDas Retreat ist auf acht Teilnehmer begrenzt\, damit wir uns ganz individuell um dich kümmern können. \nEs findet ab einer Mindestteilnehmerzahl von 6 Personen statt. \n\n\n\n\n\n\nDeine UnterkunftDas „Mariandl am Meer“\, direkt am feinen Ostseestrand gelegen\, bietet mit eigenem Wellness- & Spa-Bereich\, einem Restaurant\, Café und Bar sowie exklusiven Ferienwohnungen die idealen Bedingungen für unser Yoga & Meer Retreat. \nWir praktizieren Yoga und Klangreisen im fantastischen Rooftop-Bereich\, Meeresrauschen inklusive. Ein einzigartiges Ostseepanorama und die gesunde\, frische Meeresluft machen deinen Aufenthalt zu einem besonderen Erlebnis. \n\n\nOb allein\, zu zweit oder in größerer Runde- das „Mariandl“ bietet vielfältige Möglichkeiten\, die Zeit an der Ostsee zu genießen: \n\n\nBitte buche Deine Unterkunft  direkt im „Mariandl am Meer“ unter servus@mariandl-am-meer.de oder \nhttp://www.mariandl-am-meer.de  \nWeiterhin erhältst du: \n\nWasser und Tee für den gesamten Aufenthalt im Yogaraum\nein liebevolles Überraschungsgeschenk\n\nzzgl. Kurtaxe € 3\,40 pro Person und Tag (vor Ort zu entrichten). \n\n\n\n\nDu hast Fragen zu Verpflegung oder zur Unterkunft? Dann melde dich bei  Manuela! \nDu hast Fragen zum Yoga? Dann melde dich bei Claudia!
URL:https://www.careyoga.de/event/dein-yogawochenende-am-meer-mit-achtsamkeit-und-meditation/
LOCATION:Mariandl am Meer\, Nordstrand 400\, Ostseebad Binz OT Prora\, 18609
ATTACH;FMTTYPE=image/jpeg:https://www.careyoga.de/wp-content/uploads/2024/12/pexels-anna-tarazevich-6712286-1536x1024-1.jpg
ORGANIZER;CN="Claudia Weinreich":MAILTO:info@careyoga.de
END:VEVENT
BEGIN:VEVENT
DTSTART;TZID=Europe/Berlin:20251114T163000
DTEND;TZID=Europe/Berlin:20251128T180000
DTSTAMP:20260423T104703
CREATED:20251014T190028Z
LAST-MODIFIED:20251020T153713Z
UID:3538-1763137800-1764352800@www.careyoga.de
SUMMARY:Entspannt ins Wochenende mit Yoga & Meditation
DESCRIPTION:3 Einheiten á 90 Minuten jeweils Freitags 16:30 – 18:00 \nTermine: 14.11.2025\, 21.11.2025\, 28.11.2025 \n\n\n\n\nEine mal sanfte\, mal stärkende Yogaeinheit mit tief gehender Dehnung und regenerativer Entspannung. Hier kannst du die Ereignisse der Woche hinter dir lassen und sanft & frei in dein Wochenende starten! \n\n\n\n\nDieser Kurs ist für Jeden geeignet\, der sanftes (aber intensives) Yoga mag und nach tiefer Entspannung sucht. Hier werden wir ganz langsam Asanas (Haltungen) üben und du findest die perfekte Balance aus sanft fließender Aktivität und Entspannung. \nIn dieser Yoga-Klasse wirst du ein wenig schwitzen\, dich dehnen und Kraft aufbauen. Daneben sind Pranayama (Atemübungen) und Meditation Teile der Stunde. Den Abschluss bildet eine geführte Tiefenentspannung. Außerdem adjuste ich dich intensiv und unterstütze dich so\, deinen Weg in die Asana (Haltung) zu finden. \nDu übst in einer kleinen Gruppe (maximal 5) und sehr angenehmer\, exklusiver Atmosphäre. \nYinyasa Yoga
URL:https://www.careyoga.de/event/entspannt-ins-wochenende-mit-yoga-meditation-8/
LOCATION:CareYoga – Claudia Weinreich\, Poetenweg 30\, Leipzig\, 04155\, Deutschland
ATTACH;FMTTYPE=image/jpeg:https://www.careyoga.de/wp-content/uploads/2023/11/20231008_182456-Kopie.jpg
ORGANIZER;CN="Claudia Weinreich":MAILTO:info@careyoga.de
END:VEVENT
BEGIN:VEVENT
DTSTART;VALUE=DATE:20260305
DTEND;VALUE=DATE:20260309
DTSTAMP:20260423T104703
CREATED:20250904T120554Z
LAST-MODIFIED:20260128T073325Z
UID:3504-1772668800-1773014399@www.careyoga.de
SUMMARY:Chakren & Meer
DESCRIPTION:Du wolltest schon immer einmal etwas über Chakren erfahren? \nDu interessierst dich schon länger für die Themen Energiekörper\, Yoga & Meditation? \nDu hättest das gerne einmal praktisch und nicht theoretisch erfahren? \n\nDu sehnst dich nach einer Pause vom Alltagsstress und der täglichen Routine? \nDu verbringst gern Zeit in der Natur und besonders gern am Meer? \nDu möchtest gern neue Impulse für deine Praxis bekommen? \nIn unserem erholsamen Wochenend-Retreat wirst du all das finden! Gemeinsam erkunden wir die Welt der Chakren. \nChakren sind die Hauptenergiezentren deines Körpers und versorgen ihn mit Lebensenergie. Dieses Wochenende gibt einen Einblick in die Lehre der 7 Hauptchakren. Ist der Energiefluss in deinen Chakren gestört\, können Dysharmonien auf geistiger und körperlicher Ebene auftreten. \nDeine Chakren haben eine direkte Wirkung auf Körper\, Psyche und Energiekörper und bestimmen grundlegend dein Wohlbefinden und die allgemeine Verfassung mit. \nIn diesem 4-tägigen Retreat lässt sich die Wirkung von gezielten Asanas auf deine Chakren am eigenen Körper erfahren. Praxis und Informationen ergänzen und runden sich zu einem ganzheitlichen Erlebnis ab. An diesem langen Wochende hast du ausreichend Raum für Fragen und bekommst natürlich wertvolle Informationen & Tipps zur Umsetzung der Theorie im Alltag. Du lernst Techniken\, die du ganz einfach in deine Praxis integrieren kannst. \nWir verbringen gemeinsam ein entspanntes Wochenende mit einer Kombination au sanftem Vinyasa Yoga\, tief regenerierenden Yin und Restorative Yoga und heilsamen Klangerlebnissen. \nDu kannst alle unsere Angebote nutzen\, hast aber natürlich auch Zeit für eigene Unternehmungen\, Zeit an der erfrischenden Ostsee\, einen entspannten Saunabesuch oder für all das\, was dir Freude macht. \n\nAblaufDonnerstag \n\nab 15 Uhr: individuelle Anreise im „Mariandl am Meer“\n16.30 Uhr Ankommen mit Yin Yoga & Soundbath zum Ausgleich deiner Chakren\n18.30 Uhr gemeinsames Abendessen á la carte\,  Chakren Test\, Auswertung & Info\n\nFreitag \n\n8.30 Uhr Atem & Bewegung am Meer für deine Chakren\n9.45-11.00 Uhr Mariandl Frühstücksbuffet (optional)\n11.00 – 16.30 Uhr zur freien Verfügung\n16.30 Uhr Yin & Nada-Yogapraxis für die Chakren\nab 18.30 Uhr Abendessen (individuell)\n\nSamstag \n\n8.30 Uhr Yogapraxis für die Chakren\n9.45 Uhr Mariandl Frühstücksbuffet (optional)\n11.00 – 16.30 Uhr zur freien Verfügung\n16.30 Uhr Yin Yogapraxis & Yoga Nidra für die Chakren\n18.30 Uhr gemeinsames Abschluss-Abendessen á la carte\n\nSonntag \n\n8.30 Uhr Yogapraxis & Chakren-Meditation\n9.45 Uhr Mariandl Frühstücksbuffet (optional)\n11.00 Uhr individuelle Abreise\n\nDas Retreat ist für dich geeignet\, wenn…\ndu Lust hast\, das Konzept der Chakren kennenzulernen\ndu mehr über den Zustand deiner Chakren erfahren möchtest\ndu gerne mehr Balance in dein Leben integrieren möchtest\ndich die Verbindung zwischen Yoga & Energie interessiert\ndu herausfinden magst\, welche Yogaübungen/Meditationen dir besonders gut tun\ndu Lust auf eine kurze\, informative und erholsame Auszeit mit Yoga & Klang hast\ndu gern mehr Verbindung zu dir selbst spüren möchtest\ndu auf der Suche nach Entspannung & innerem Frieden bist\ndu einfach ein paar Tage am Meer genießen magst\n\nPreis \n\n\n\n\n\npro Person  € 369\,-\n\nDie Yogastunden sind für alle Level geeignet und bieten sowohl aktivierende Elemente (am Vormittag) als auch sehr entspannende\, harmonisierende Stunden (am Abend)\, die durch den Einsatz von Klangschalen noch intensiviert werden. \n\nDas Retreat ist auf zehn Teilnehmer begrenzt\, damit wir uns ganz individuell um dich kümmern können. \nEs findet ab einer Mindestteilnehmerzahl von 6 Personen statt. \n\n\n\n\n\n\nDeine UnterkunftDas „Mariandl am Meer“\, direkt am feinen Ostseestrand gelegen\, bietet mit eigenem Wellness- & Spa-Bereich\, einem Restaurant\, Café und Bar sowie exklusiven Ferienwohnungen die idealen Bedingungen für unser Yoga & Meer Retreat. \nWir praktizieren Yoga und Klangreisen im fantastischen Rooftop-Bereich\, Meeresrauschen inklusive. Ein einzigartiges Ostseepanorama und die gesunde\, frische Meeresluft machen deinen Aufenthalt zu einem besonderen Erlebnis. \n\n\nOb allein\, zu zweit oder in größerer Runde- das „Mariandl“ bietet vielfältige Möglichkeiten\, die Zeit an der Ostsee zu genießen: \n\n\nBitte buche Deine Unterkunft  direkt im „Mariandl am Meer“ unter servus@mariandl-am-meer.de oder \nhttp://www.mariandl-am-meer.de  \nzzgl. Kurtaxe € 3\,40 pro Person und Tag (vor Ort zu entrichten). \nWeiterhin kannst du dein reichhaltiges Frühstücksbufett (pro Tag und Person € 19\,50) und dein Abendessen direkt im Mariandl am Meer vor Ort buchen. \n\n\n\n\nDu hast Fragen zu Verpflegung oder zur Unterkunft? Dann melde dich bei  Manuela! \nDu hast Fragen zum Yoga? Dann melde dich bei Claudia!
URL:https://www.careyoga.de/event/chakren-meer/
LOCATION:Mariandl am Meer\, Nordstrand 400\, Ostseebad Binz OT Prora\, 18609
ATTACH;FMTTYPE=image/heic:https://www.careyoga.de/wp-content/uploads/2025/09/meer.jpg.heic
ORGANIZER;CN="Claudia Weinreich":MAILTO:info@careyoga.de
END:VEVENT
END:VCALENDAR