BEGIN:VCALENDAR
VERSION:2.0
PRODID:-//CareYoga - Body, Mind &amp; Food - ECPv6.15.20//NONSGML v1.0//EN
CALSCALE:GREGORIAN
METHOD:PUBLISH
X-WR-CALNAME:CareYoga - Body, Mind &amp; Food
X-ORIGINAL-URL:https://www.careyoga.de
X-WR-CALDESC:Veranstaltungen für CareYoga - Body, Mind &amp; Food
REFRESH-INTERVAL;VALUE=DURATION:PT1H
X-Robots-Tag:noindex
X-PUBLISHED-TTL:PT1H
BEGIN:VTIMEZONE
TZID:Europe/Berlin
BEGIN:DAYLIGHT
TZOFFSETFROM:+0100
TZOFFSETTO:+0200
TZNAME:CEST
DTSTART:20230326T010000
END:DAYLIGHT
BEGIN:STANDARD
TZOFFSETFROM:+0200
TZOFFSETTO:+0100
TZNAME:CET
DTSTART:20231029T010000
END:STANDARD
BEGIN:DAYLIGHT
TZOFFSETFROM:+0100
TZOFFSETTO:+0200
TZNAME:CEST
DTSTART:20240331T010000
END:DAYLIGHT
BEGIN:STANDARD
TZOFFSETFROM:+0200
TZOFFSETTO:+0100
TZNAME:CET
DTSTART:20241027T010000
END:STANDARD
BEGIN:DAYLIGHT
TZOFFSETFROM:+0100
TZOFFSETTO:+0200
TZNAME:CEST
DTSTART:20250330T010000
END:DAYLIGHT
BEGIN:STANDARD
TZOFFSETFROM:+0200
TZOFFSETTO:+0100
TZNAME:CET
DTSTART:20251026T010000
END:STANDARD
END:VTIMEZONE
BEGIN:VEVENT
DTSTART;TZID=Europe/Berlin:20241125T191500
DTEND;TZID=Europe/Berlin:20241216T204500
DTSTAMP:20260423T140555
CREATED:20241116T080003Z
LAST-MODIFIED:20240913T101303Z
UID:3360-1732562100-1734381900@www.careyoga.de
SUMMARY:Vinyasa & Yin Yoga & Meditation
DESCRIPTION:4 Einheiten á 90 Minuten jeweils Montags 19:15 – 20:45 \nTermine: 25.11.24\, 02.12.24\, 09.12.24\, 16.12.24 \n\n\n\n\n\n\n\n\nEine Yogaeinheit\, die dich systematisch runterfährt. Sanftes Vinyasa Yoga\, regeneratives Yin Yoga und eine tief entspannende\, geführte Meditation sorgen für dein komplettes Yogaerlebnis. \n\n\n\n\n\n\n\n\nDieser Kurs ist für Jeden geeignet\, der sanftes Yoga mag und nach tiefer Entspannung sucht. Hier werden wir ganz langsam einfache Asanas (Haltungen) üben und du findest die perfekte Balance aus sanft fließender Aktivität und Entspannung. \nIn dieser Klasse wirst du dich dehnen und ein wenig Kraft aufbauen. Daneben sind Pranayama (Atemübungen) und Meditation Teile der Stunde. Den Abschluss bildet eine geführte Tiefenentspannung. Außerdem adjuste ich dich intensiv und unterstütze dich so\, deinen Weg in die Asana (Haltung) zu finden. \nDu übst in einer kleinen Gruppe und angenehmer\, exklusiver Atmosphäre. \nYinyasa Yoga
URL:https://www.careyoga.de/event/vinyasa-yin-yoga-meditation-4/
LOCATION:CareYoga – Claudia Weinreich\, Poetenweg 30\, Leipzig\, 04155\, Deutschland
ATTACH;FMTTYPE=image/jpeg:https://www.careyoga.de/wp-content/uploads/2024/09/20231008_173317-scaled.jpg
ORGANIZER;CN="Claudia Weinreich":MAILTO:info@careyoga.de
END:VEVENT
BEGIN:VEVENT
DTSTART;TZID=Europe/Berlin:20241127T170000
DTEND;TZID=Europe/Berlin:20241218T183000
DTSTAMP:20260423T140555
CREATED:20241116T080015Z
LAST-MODIFIED:20241115T203323Z
UID:3358-1732726800-1734546600@www.careyoga.de
SUMMARY:Vinyasa Yoga & Meditation
DESCRIPTION:4 Einheiten á 90 Minuten jeweils Mittwochs 17:00 – 18:30 \nTermine: 27.11.24\, 04.12.24\, 11.12.24\, 18.12.24 \n\n\n\n\nEine Yogaeinheit\, die dich aktiv fordert aber nicht überfordert. Dynamisches Vinyasa Yoga\, das deinen gesamten Körper anspricht! Den Ausgleich bietet eine geführte Tiefenentspannung und sorgt für dein komplettes Yogaerlebnis. \n\n\n\n\nDieser Kurs ist für Jeden geeignet\, der sanftes Yoga mag und nach tiefer Entspannung sucht. Hier werden wir ganz langsam einfache Asanas (Haltungen) üben und du findest die perfekte Balance aus sanft fließender Aktivität und Entspannung. \nIn dieser Klasse wirst du ein wenig schwitzen\, dich dehnen und Kraft aufbauen. Daneben sind Pranayama (Atemübungen) und Meditation Teile der Stunde. Den Abschluss bildet eine geführte Tiefenentspannung. Außerdem adjuste ich dich intensiv und unterstütze dich so\, deinen Weg in die Asana (Haltung) zu finden. \nDu übst in einer kleinen Gruppe und angenehmer\, exklusiver Atmosphäre. \nYinyasa Yoga
URL:https://www.careyoga.de/event/vinyasa-yoga-meditation-4/
LOCATION:CareYoga – Claudia Weinreich\, Poetenweg 30\, Leipzig\, 04155\, Deutschland
ATTACH;FMTTYPE=image/jpeg:https://www.careyoga.de/wp-content/uploads/2023/11/20231008_182456-Kopie.jpg
ORGANIZER;CN="Claudia Weinreich":MAILTO:info@careyoga.de
END:VEVENT
BEGIN:VEVENT
DTSTART;TZID=Europe/Berlin:20241129T163000
DTEND;TZID=Europe/Berlin:20241220T180000
DTSTAMP:20260423T140555
CREATED:20241116T080003Z
LAST-MODIFIED:20241115T203127Z
UID:3346-1732897800-1734717600@www.careyoga.de
SUMMARY:Entspannt ins Wochenende mit Yoga & Meditation
DESCRIPTION:4 Einheiten á 90 Minuten jeweils Freitags 16:30 – 18:00 \nTermine: 29.11.24\, 06.12.24\, 13.12.24\, 20.12.24 \n\n\n\n\nEine mal sanfte\, mal stärkende Yogaeinheit mit tief gehender Dehnung und regenerativer Entspannung. Hier kannst du die Ereignisse der Woche hinter dir lassen und sanft & frei in dein Wochenende starten! \n\n\n\n\nDieser Kurs ist für Jeden geeignet\, der sanftes Yoga mag und nach tiefer Entspannung sucht. Hier werden wir ganz langsam einfache Asanas (Haltungen) üben und du findest die perfekte Balance aus sanft fließender Aktivität und Entspannung. \nIn dieser Yoga-Klasse wirst du ein wenig schwitzen\, dich dehnen und Kraft aufbauen. Daneben sind Pranayama (Atemübungen) und Meditation Teile der Stunde. Den Abschluss bildet eine geführte Tiefenentspannung. Außerdem adjuste ich dich intensiv und unterstütze dich so\, deinen Weg in die Asana (Haltung) zu finden. \nDu übst in einer kleinen Gruppe und angenehmer\, exklusiver Atmosphäre. \nYinyasa Yoga
URL:https://www.careyoga.de/event/entspannt-ins-wochenende-mit-yoga-meditation-4/
LOCATION:CareYoga – Claudia Weinreich\, Poetenweg 30\, Leipzig\, 04155\, Deutschland
ATTACH;FMTTYPE=image/jpeg:https://www.careyoga.de/wp-content/uploads/2024/02/20231008_183553-scaled.jpg
ORGANIZER;CN="Claudia Weinreich":MAILTO:info@careyoga.de
END:VEVENT
END:VCALENDAR